BEGIN:VCALENDAR
VERSION:2.0
PRODID:-//Турклуб Вестра//Календарь турклуба Вестра//RU
METHOD:PUBLISH
X-WR-CALNAME:Календарь турклуба Вестра
X-WR-TIMEZONE:Europe/Moscow
BEGIN:VTIMEZONE
TZID:Europe/Moscow
X-LIC-LOCATION:Europe/Moscow
BEGIN:DAYLIGHT
TZOFFSETFROM:+0300
TZOFFSETTO:+0400
TZNAME:MSD
DTSTART:19700329T020000
RRULE:FREQ=YEARLY;BYMONTH=3;BYDAY=-1SU
END:DAYLIGHT
BEGIN:STANDARD
TZOFFSETFROM:+0400
TZOFFSETTO:+0300
TZNAME:MSK
DTSTART:19701025T030000
RRULE:FREQ=YEARLY;BYMONTH=10;BYDAY=-1SU
END:STANDARD
END:VTIMEZONE
BEGIN:VEVENT
DTSTART:20260321T000000
DTEND:20260322T190000
SUMMARY:НУ: помощь в организации ПСР
URL: https://westra.ru/forum/calendar.php?view=event&calEid=2723
DESCRIPTION:Подробнее: https://westra.ru/forum/calendar.php?view=event&calEid=2723
END:VEVENT
BEGIN:VEVENT
DTSTART:20260321T080000
DTEND:20260322T190000
SUMMARY:БУ: ПСР: Поисково-спасательные работы
URL: https://westra.ru/forum/calendar.php?view=event&calEid=2637
DESCRIPTION:Подробнее: https://westra.ru/forum/calendar.php?view=event&calEid=2637
END:VEVENT
BEGIN:VEVENT
DTSTART:20260321T080000
DTEND:20260322T180000
SUMMARY:СУ: ПСР: Поисково-спасательные работы
URL: https://westra.ru/forum/calendar.php?view=event&calEid=2595
DESCRIPTION:Подробнее: https://westra.ru/forum/calendar.php?view=event&calEid=2595
END:VEVENT
BEGIN:VEVENT
DTSTART:20260323T090000
DTEND:20260323T210000
SUMMARY:ВБУ: Техника гребли
URL: https://westra.ru/forum/calendar.php?view=event&calEid=2760
DESCRIPTION:Подробнее: https://westra.ru/forum/calendar.php?view=event&calEid=2760
END:VEVENT
BEGIN:VEVENT
DTSTART:20260324T190000
DTEND:20260324T220000
SUMMARY:СУ: Техника движения и преодоление препятствий. Скалы.
URL: https://westra.ru/forum/calendar.php?view=event&calEid=2596
DESCRIPTION:Подробнее: https://westra.ru/forum/calendar.php?view=event&calEid=2596
END:VEVENT
BEGIN:VEVENT
DTSTART:20260324T193000
DTEND:20260324T214500
SUMMARY:БУ:
URL: https://westra.ru/forum/calendar.php?view=event&calEid=2638
DESCRIPTION:Подробнее: https://westra.ru/forum/calendar.php?view=event&calEid=2638
END:VEVENT
BEGIN:VEVENT
DTSTART:20260325T090000
DTEND:20260325T210000
SUMMARY:НУ: Десмургия
URL: https://westra.ru/forum/calendar.php?view=event&calEid=2725
DESCRIPTION:Подробнее: https://westra.ru/forum/calendar.php?view=event&calEid=2725
END:VEVENT
BEGIN:VEVENT
DTSTART:20260326T193000
DTEND:20260326T220000
SUMMARY:ПБУ: Водные препятствия и сухой лог. Переправы
URL: https://westra.ru/forum/calendar.php?view=event&calEid=2684
DESCRIPTION:Подробнее: https://westra.ru/forum/calendar.php?view=event&calEid=2684
END:VEVENT
BEGIN:VEVENT
DTSTART:20260328T090000
DTEND:20260328T210000
SUMMARY:ВБУ: Тренировка на реке
URL: https://westra.ru/forum/calendar.php?view=event&calEid=2761
DESCRIPTION:Подробнее: https://westra.ru/forum/calendar.php?view=event&calEid=2761
END:VEVENT
BEGIN:VEVENT
DTSTART:20260328T090000
DTEND:20260328T210000
SUMMARY:НУ: Ориентирование
URL: https://westra.ru/forum/calendar.php?view=event&calEid=2726
DESCRIPTION:Подробнее: https://westra.ru/forum/calendar.php?view=event&calEid=2726
END:VEVENT
BEGIN:VEVENT
DTSTART:20260328T090000
DTEND:20260328T210000
SUMMARY:ПБУ: Изготовление носилок
URL: https://westra.ru/forum/calendar.php?view=event&calEid=2687
DESCRIPTION:Подробнее: https://westra.ru/forum/calendar.php?view=event&calEid=2687
END:VEVENT
BEGIN:VEVENT
DTSTART:20260329T090000
DTEND:20260329T210000
SUMMARY:ПБУ: Подготовка к ТПТ.  Техническая тренировка
URL: https://westra.ru/forum/calendar.php?view=event&calEid=2774
DESCRIPTION:Подробнее: https://westra.ru/forum/calendar.php?view=event&calEid=2774
END:VEVENT
BEGIN:VEVENT
DTSTART:20260330T090000
DTEND:20260330T210000
SUMMARY:ВБУ: Использование лоции и тех. описания
URL: https://westra.ru/forum/calendar.php?view=event&calEid=2762
DESCRIPTION:Подробнее: https://westra.ru/forum/calendar.php?view=event&calEid=2762
END:VEVENT
BEGIN:VEVENT
DTSTART:20260331T190000
DTEND:20260331T220000
SUMMARY:СУ: Топография и ориентирование. Работа с картой
URL: https://westra.ru/forum/calendar.php?view=event&calEid=2597
DESCRIPTION:Подробнее: https://westra.ru/forum/calendar.php?view=event&calEid=2597
END:VEVENT
BEGIN:VEVENT
DTSTART:20260331T193000
DTEND:20260331T214500
SUMMARY:БУ: Питание в горном походе
URL: https://westra.ru/forum/calendar.php?view=event&calEid=2639
DESCRIPTION:Подробнее: https://westra.ru/forum/calendar.php?view=event&calEid=2639
END:VEVENT
BEGIN:VEVENT
DTSTART:20260401T090000
DTEND:20260401T210000
SUMMARY:НУ: Транспортировка пострадавшего. Носилки
URL: https://westra.ru/forum/calendar.php?view=event&calEid=2727
DESCRIPTION:Подробнее: https://westra.ru/forum/calendar.php?view=event&calEid=2727
END:VEVENT
BEGIN:VEVENT
DTSTART:20260402T193000
DTEND:20260402T220000
SUMMARY:ПБУ: ТПТ часть 2: Болота
URL: https://westra.ru/forum/calendar.php?view=event&calEid=2688
DESCRIPTION:Подробнее: https://westra.ru/forum/calendar.php?view=event&calEid=2688
END:VEVENT
BEGIN:VEVENT
DTSTART:20260404T090000
DTEND:20260404T210000
SUMMARY:ПБУ: Подготовка к ТПТ
URL: https://westra.ru/forum/calendar.php?view=event&calEid=2689
DESCRIPTION:Подробнее: https://westra.ru/forum/calendar.php?view=event&calEid=2689
END:VEVENT
BEGIN:VEVENT
DTSTART:20260404T090000
DTEND:20260404T210000
SUMMARY:НУ: Первая помощь для медиков групп
URL: https://westra.ru/forum/calendar.php?view=event&calEid=2728
DESCRIPTION:Подробнее: https://westra.ru/forum/calendar.php?view=event&calEid=2728
END:VEVENT
BEGIN:VEVENT
DTSTART:20260404T080000
DTEND:20260405T190000
SUMMARY:БУ: Подготовка к ТГТ
URL: https://westra.ru/forum/calendar.php?view=event&calEid=2640
DESCRIPTION:Подробнее: https://westra.ru/forum/calendar.php?view=event&calEid=2640
END:VEVENT
BEGIN:VEVENT
DTSTART:20260404T100000
DTEND:20260405T160000
SUMMARY:СУ: Техника движения и преодоление препятствий. Скалы.
URL: https://westra.ru/forum/calendar.php?view=event&calEid=2598
DESCRIPTION:Подробнее: https://westra.ru/forum/calendar.php?view=event&calEid=2598
END:VEVENT
BEGIN:VEVENT
DTSTART:20260405T090000
DTEND:20260405T210000
SUMMARY:ПБУ: Подготовка к ТПТ
URL: https://westra.ru/forum/calendar.php?view=event&calEid=2690
DESCRIPTION:Подробнее: https://westra.ru/forum/calendar.php?view=event&calEid=2690
END:VEVENT
BEGIN:VEVENT
DTSTART:20260405T090000
DTEND:20260405T210000
SUMMARY:НУ: Первая помощь для медиков групп
URL: https://westra.ru/forum/calendar.php?view=event&calEid=2729
DESCRIPTION:Подробнее: https://westra.ru/forum/calendar.php?view=event&calEid=2729
END:VEVENT
BEGIN:VEVENT
DTSTART:20260406T090000
DTEND:20260406T210000
SUMMARY:ВБУ: Стратегия и тактика спортивных походов 1-2кс
URL: https://westra.ru/forum/calendar.php?view=event&calEid=2763
DESCRIPTION:Подробнее: https://westra.ru/forum/calendar.php?view=event&calEid=2763
END:VEVENT
BEGIN:VEVENT
DTSTART:20260407T190000
DTEND:20260407T220000
SUMMARY:СУ: Топография и ориентирование. Современные технологии
URL: https://westra.ru/forum/calendar.php?view=event&calEid=2599
DESCRIPTION:Подробнее: https://westra.ru/forum/calendar.php?view=event&calEid=2599
END:VEVENT
BEGIN:VEVENT
DTSTART:20260407T193000
DTEND:20260407T214500
SUMMARY:БУ: Разрядные требования в туризме
URL: https://westra.ru/forum/calendar.php?view=event&calEid=2641
DESCRIPTION:Подробнее: https://westra.ru/forum/calendar.php?view=event&calEid=2641
END:VEVENT
BEGIN:VEVENT
DTSTART:20260408T090000
DTEND:20260408T210000
SUMMARY:НУ: Виды спортивного туризма. Категорирование. Краеведение.
URL: https://westra.ru/forum/calendar.php?view=event&calEid=2731
DESCRIPTION:Подробнее: https://westra.ru/forum/calendar.php?view=event&calEid=2731
END:VEVENT
BEGIN:VEVENT
DTSTART:20260409T193000
DTEND:20260409T220000
SUMMARY:ПБУ:Действия в экстремальных условиях. Основы выживания. ПСР
URL: https://westra.ru/forum/calendar.php?view=event&calEid=2691
DESCRIPTION:Подробнее: https://westra.ru/forum/calendar.php?view=event&calEid=2691
END:VEVENT
BEGIN:VEVENT
DTSTART:20260411T000000
DTEND:20260412T190000
SUMMARY:НУ: Подготовка к ТГТ
URL: https://westra.ru/forum/calendar.php?view=event&calEid=2732
DESCRIPTION:Подробнее: https://westra.ru/forum/calendar.php?view=event&calEid=2732
END:VEVENT
BEGIN:VEVENT
DTSTART:20260411T090000
DTEND:20260412T150000
SUMMARY:ВБУ: ПВД на реке
URL: https://westra.ru/forum/calendar.php?view=event&calEid=2764
DESCRIPTION:Подробнее: https://westra.ru/forum/calendar.php?view=event&calEid=2764
END:VEVENT
BEGIN:VEVENT
DTSTART:20260413T090000
DTEND:20260413T210000
SUMMARY:ВБУ: Психология малых групп
URL: https://westra.ru/forum/calendar.php?view=event&calEid=2765
DESCRIPTION:Подробнее: https://westra.ru/forum/calendar.php?view=event&calEid=2765
END:VEVENT
BEGIN:VEVENT
DTSTART:20260414T090000
DTEND:20260414T210000
SUMMARY:СУ:Разрядные требования в туризме, оформление.
URL: https://westra.ru/forum/calendar.php?view=event&calEid=2600
DESCRIPTION:Подробнее: https://westra.ru/forum/calendar.php?view=event&calEid=2600
END:VEVENT
BEGIN:VEVENT
DTSTART:20260414T193000
DTEND:20260414T214500
SUMMARY:БУ: Понятие о туристской группе. Обязанности в группе
URL: https://westra.ru/forum/calendar.php?view=event&calEid=2642
DESCRIPTION:Подробнее: https://westra.ru/forum/calendar.php?view=event&calEid=2642
END:VEVENT
BEGIN:VEVENT
DTSTART:20260415T090000
DTEND:20260415T210000
SUMMARY:НУ: Ремонт тур.снаряжения. Зачет по узлам.
URL: https://westra.ru/forum/calendar.php?view=event&calEid=2734
DESCRIPTION:Подробнее: https://westra.ru/forum/calendar.php?view=event&calEid=2734
END:VEVENT
BEGIN:VEVENT
DTSTART:20260416T193000
DTEND:20260416T220000
SUMMARY:ПБУ: Спортивные разряды. Структура туризма,история,развитие
URL: https://westra.ru/forum/calendar.php?view=event&calEid=2692
DESCRIPTION:Подробнее: https://westra.ru/forum/calendar.php?view=event&calEid=2692
END:VEVENT
BEGIN:VEVENT
DTSTART:20260418T090000
DTEND:20260418T210000
SUMMARY:НУ: ТГТ
URL: https://westra.ru/forum/calendar.php?view=event&calEid=2735
DESCRIPTION:Подробнее: https://westra.ru/forum/calendar.php?view=event&calEid=2735
END:VEVENT
BEGIN:VEVENT
DTSTART:20260418T090000
DTEND:20260418T210000
SUMMARY:ПБУ: ТПТ
URL: https://westra.ru/forum/calendar.php?view=event&calEid=2695
DESCRIPTION:Подробнее: https://westra.ru/forum/calendar.php?view=event&calEid=2695
END:VEVENT
BEGIN:VEVENT
DTSTART:20260418T060000
DTEND:20260419T180000
SUMMARY:БУ: ТГТ. Техника горного туризма
URL: https://westra.ru/forum/calendar.php?view=event&calEid=2613
DESCRIPTION:Подробнее: https://westra.ru/forum/calendar.php?view=event&calEid=2613
END:VEVENT
BEGIN:VEVENT
DTSTART:20260418T080000
DTEND:20260419T180000
SUMMARY:СУ: ТГТ. Техника горного туризма.
URL: https://westra.ru/forum/calendar.php?view=event&calEid=2601
DESCRIPTION:Подробнее: https://westra.ru/forum/calendar.php?view=event&calEid=2601
END:VEVENT
BEGIN:VEVENT
DTSTART:20260419T090000
DTEND:20260419T210000
SUMMARY:НУ: ТГТ
URL: https://westra.ru/forum/calendar.php?view=event&calEid=2736
DESCRIPTION:Подробнее: https://westra.ru/forum/calendar.php?view=event&calEid=2736
END:VEVENT
BEGIN:VEVENT
DTSTART:20260419T090000
DTEND:20260419T210000
SUMMARY:ПБУ: ТПТ
URL: https://westra.ru/forum/calendar.php?view=event&calEid=2696
DESCRIPTION:Подробнее: https://westra.ru/forum/calendar.php?view=event&calEid=2696
END:VEVENT
BEGIN:VEVENT
DTSTART:20260420T090000
DTEND:20260420T210000
SUMMARY:ВБУ: Категорирование маршрутов и препятствий
URL: https://westra.ru/forum/calendar.php?view=event&calEid=2767
DESCRIPTION:Подробнее: https://westra.ru/forum/calendar.php?view=event&calEid=2767
END:VEVENT
BEGIN:VEVENT
DTSTART:20260421T190000
DTEND:20260421T220000
SUMMARY:СУ: Питание в походах 3-4 к.с.
URL: https://westra.ru/forum/calendar.php?view=event&calEid=2604
DESCRIPTION:Подробнее: https://westra.ru/forum/calendar.php?view=event&calEid=2604
END:VEVENT
BEGIN:VEVENT
DTSTART:20260421T193000
DTEND:20260421T214500
SUMMARY:БУ: Топография и ориентирование. Современные технологии
URL: https://westra.ru/forum/calendar.php?view=event&calEid=2643
DESCRIPTION:Подробнее: https://westra.ru/forum/calendar.php?view=event&calEid=2643
END:VEVENT
BEGIN:VEVENT
DTSTART:20260422T090000
DTEND:20260422T210000
SUMMARY:НУ: Опасности в  походе. Преодоление водных препятствий.
URL: https://westra.ru/forum/calendar.php?view=event&calEid=2737
DESCRIPTION:Подробнее: https://westra.ru/forum/calendar.php?view=event&calEid=2737
END:VEVENT
BEGIN:VEVENT
DTSTART:20260423T193000
DTEND:20260423T220000
SUMMARY:ПБУ: Системы для натяжения переправ и подъема грузов
URL: https://westra.ru/forum/calendar.php?view=event&calEid=2693
DESCRIPTION:Подробнее: https://westra.ru/forum/calendar.php?view=event&calEid=2693
END:VEVENT
BEGIN:VEVENT
DTSTART:20260425T090000
DTEND:20260425T210000
SUMMARY:СУ: Сдача предпоходных нормативов ОФП
URL: https://westra.ru/forum/calendar.php?view=event&calEid=2602
DESCRIPTION:Подробнее: https://westra.ru/forum/calendar.php?view=event&calEid=2602
END:VEVENT
BEGIN:VEVENT
DTSTART:20260427T193000
DTEND:20260427T220000
SUMMARY:ПБУ: Стратегия и тактика пеших походов. Районы походов
URL: https://westra.ru/forum/calendar.php?view=event&calEid=2694
DESCRIPTION:Подробнее: https://westra.ru/forum/calendar.php?view=event&calEid=2694
END:VEVENT
BEGIN:VEVENT
DTSTART:20260428T193000
DTEND:20260428T214500
SUMMARY:БУ: Сдача предпоходных нормативов ОФП
URL: https://westra.ru/forum/calendar.php?view=event&calEid=2644
DESCRIPTION:Подробнее: https://westra.ru/forum/calendar.php?view=event&calEid=2644
END:VEVENT
BEGIN:VEVENT
DTSTART:20260501T090000
DTEND:20260503T190000
SUMMARY:ПБУ: Переправы. Техника ПСР
URL: https://westra.ru/forum/calendar.php?view=event&calEid=2697
DESCRIPTION:Подробнее: https://westra.ru/forum/calendar.php?view=event&calEid=2697
END:VEVENT
BEGIN:VEVENT
DTSTART:20260504T090000
DTEND:20260504T210000
SUMMARY:ВБУ: Структура и деятельность общественных ТСО и турклубов
URL: https://westra.ru/forum/calendar.php?view=event&calEid=2768
DESCRIPTION:Подробнее: https://westra.ru/forum/calendar.php?view=event&calEid=2768
END:VEVENT
BEGIN:VEVENT
DTSTART:20260509T090000
DTEND:20260510T150000
SUMMARY:ВБУ: Техника прохождения препятствия
URL: https://westra.ru/forum/calendar.php?view=event&calEid=2766
DESCRIPTION:Подробнее: https://westra.ru/forum/calendar.php?view=event&calEid=2766
END:VEVENT
BEGIN:VEVENT
DTSTART:20260512T193000
DTEND:20260512T214500
SUMMARY:БУ: Основные руководящие материалы по спортивному туризму
URL: https://westra.ru/forum/calendar.php?view=event&calEid=2645
DESCRIPTION:Подробнее: https://westra.ru/forum/calendar.php?view=event&calEid=2645
END:VEVENT
BEGIN:VEVENT
DTSTART:20260514T193000
DTEND:20260514T220000
SUMMARY:ПБУ: Организация и подготовка похода 1-2к.с.
URL: https://westra.ru/forum/calendar.php?view=event&calEid=2704
DESCRIPTION:Подробнее: https://westra.ru/forum/calendar.php?view=event&calEid=2704
END:VEVENT
BEGIN:VEVENT
DTSTART:20260516T000000
DTEND:20260517T180000
SUMMARY:НУ: Водные препятствия. Подготовка к КП
URL: https://westra.ru/forum/calendar.php?view=event&calEid=2738
DESCRIPTION:Подробнее: https://westra.ru/forum/calendar.php?view=event&calEid=2738
END:VEVENT
BEGIN:VEVENT
DTSTART:20260516T090000
DTEND:20260516T210000
SUMMARY:ПБУ: Подготовка к КП
URL: https://westra.ru/forum/calendar.php?view=event&calEid=2699
DESCRIPTION:Подробнее: https://westra.ru/forum/calendar.php?view=event&calEid=2699
END:VEVENT
BEGIN:VEVENT
DTSTART:20260516T080000
DTEND:20260517T190000
SUMMARY:БУ: Техника движения и преодоление препятствий. Повторение
URL: https://westra.ru/forum/calendar.php?view=event&calEid=2647
DESCRIPTION:Подробнее: https://westra.ru/forum/calendar.php?view=event&calEid=2647
END:VEVENT
BEGIN:VEVENT
DTSTART:20260516T100000
DTEND:20260517T160000
SUMMARY:СУ: Техника движения и преодоление препятствий. Повторение.
URL: https://westra.ru/forum/calendar.php?view=event&calEid=2605
DESCRIPTION:Подробнее: https://westra.ru/forum/calendar.php?view=event&calEid=2605
END:VEVENT
BEGIN:VEVENT
DTSTART:20260517T090000
DTEND:20260517T210000
SUMMARY:ПБУ: Подготовка к КП
URL: https://westra.ru/forum/calendar.php?view=event&calEid=2700
DESCRIPTION:Подробнее: https://westra.ru/forum/calendar.php?view=event&calEid=2700
END:VEVENT
BEGIN:VEVENT
DTSTART:20260519T090000
DTEND:20260519T210000
SUMMARY:НУ: сдача физ.нормативов
URL: https://westra.ru/forum/calendar.php?view=event&calEid=2740
DESCRIPTION:Подробнее: https://westra.ru/forum/calendar.php?view=event&calEid=2740
END:VEVENT
BEGIN:VEVENT
DTSTART:20260519T190000
DTEND:20260519T220000
SUMMARY:СУ: Основные руководящие материалы по спортивному туризму.
URL: https://westra.ru/forum/calendar.php?view=event&calEid=2606
DESCRIPTION:Подробнее: https://westra.ru/forum/calendar.php?view=event&calEid=2606
END:VEVENT
BEGIN:VEVENT
DTSTART:20260519T193000
DTEND:20260519T214500
SUMMARY:БУ: Юридические аспекты в туризме. Права и обязанности
URL: https://westra.ru/forum/calendar.php?view=event&calEid=2646
DESCRIPTION:Подробнее: https://westra.ru/forum/calendar.php?view=event&calEid=2646
END:VEVENT
BEGIN:VEVENT
DTSTART:20260520T090000
DTEND:20260520T210000
SUMMARY:НУ: Права и обязанности в группе. ТБ. Подготовка похода.
URL: https://westra.ru/forum/calendar.php?view=event&calEid=2742
DESCRIPTION:Подробнее: https://westra.ru/forum/calendar.php?view=event&calEid=2742
END:VEVENT
BEGIN:VEVENT
DTSTART:20260521T090000
DTEND:20260521T210000
SUMMARY:НУ: сдача физнормативов
URL: https://westra.ru/forum/calendar.php?view=event&calEid=2741
DESCRIPTION:Подробнее: https://westra.ru/forum/calendar.php?view=event&calEid=2741
END:VEVENT
BEGIN:VEVENT
DTSTART:20260521T193000
DTEND:20260521T220000
SUMMARY:ПБУ: Опасности в природной среде, причины травматизма
URL: https://westra.ru/forum/calendar.php?view=event&calEid=2775
DESCRIPTION:Подробнее: https://westra.ru/forum/calendar.php?view=event&calEid=2775
END:VEVENT
BEGIN:VEVENT
DTSTART:20260523T000000
DTEND:20260524T180000
SUMMARY:НУ: ПСР. ПВД.
URL: https://westra.ru/forum/calendar.php?view=event&calEid=2743
DESCRIPTION:Подробнее: https://westra.ru/forum/calendar.php?view=event&calEid=2743
END:VEVENT
BEGIN:VEVENT
DTSTART:20260526T193000
DTEND:20260526T214500
SUMMARY:БУ:
URL: https://westra.ru/forum/calendar.php?view=event&calEid=2649
DESCRIPTION:Подробнее: https://westra.ru/forum/calendar.php?view=event&calEid=2649
END:VEVENT
BEGIN:VEVENT
DTSTART:20260527T090000
DTEND:20260527T210000
SUMMARY:НУ: Наблюдения в походе. Фото и видео. Отчет о походе
URL: https://westra.ru/forum/calendar.php?view=event&calEid=2745
DESCRIPTION:Подробнее: https://westra.ru/forum/calendar.php?view=event&calEid=2745
END:VEVENT
BEGIN:VEVENT
DTSTART:20260528T193000
DTEND:20260528T220000
SUMMARY:ПБУ: хорнометрия, фото и видео в походе. Написание отчета
URL: https://westra.ru/forum/calendar.php?view=event&calEid=2703
DESCRIPTION:Подробнее: https://westra.ru/forum/calendar.php?view=event&calEid=2703
END:VEVENT
BEGIN:VEVENT
DTSTART:20260530T090000
DTEND:20260530T210000
SUMMARY:ПБУ: КП
URL: https://westra.ru/forum/calendar.php?view=event&calEid=2701
DESCRIPTION:Подробнее: https://westra.ru/forum/calendar.php?view=event&calEid=2701
END:VEVENT
BEGIN:VEVENT
DTSTART:20260530T060000
DTEND:20260531T190000
SUMMARY:НУ: Кросс-поход
URL: https://westra.ru/forum/calendar.php?view=event&calEid=2607
DESCRIPTION:Подробнее: https://westra.ru/forum/calendar.php?view=event&calEid=2607
END:VEVENT
BEGIN:VEVENT
DTSTART:20260530T080000
DTEND:20260531T190000
SUMMARY:БУ: помощь в судействе кросс-похода НУ
URL: https://westra.ru/forum/calendar.php?view=event&calEid=2648
DESCRIPTION:Подробнее: https://westra.ru/forum/calendar.php?view=event&calEid=2648
END:VEVENT
BEGIN:VEVENT
DTSTART:20260531T090000
DTEND:20260531T210000
SUMMARY:ПБУ: КП
URL: https://westra.ru/forum/calendar.php?view=event&calEid=2702
DESCRIPTION:Подробнее: https://westra.ru/forum/calendar.php?view=event&calEid=2702
END:VEVENT
BEGIN:VEVENT
DTSTART:20260606T060000
DTEND:20260607T160000
SUMMARY:БУ: Кросс-поход
URL: https://westra.ru/forum/calendar.php?view=event&calEid=2614
DESCRIPTION:Подробнее: https://westra.ru/forum/calendar.php?view=event&calEid=2614
END:VEVENT
BEGIN:VEVENT
DTSTART:20260606T060000
DTEND:20260607T180000
SUMMARY:СУ: Кросс-поход
URL: https://westra.ru/forum/calendar.php?view=event&calEid=2608
DESCRIPTION:Подробнее: https://westra.ru/forum/calendar.php?view=event&calEid=2608
END:VEVENT
END:VCALENDAR
